BEGIN:VCALENDAR
VERSION:2.0
PRODID:-//communityofcarend.com//NONSGML kigkonsult.se iCalcreator 2.30.10/
 /
CALSCALE:GREGORIAN
METHOD:PUBLISH
UID:62c359c3-664d-4332-8fbf-c99e6b2a0232
X-WR-CALDESC:Low impact exercise class
X-WR-RELCALID:c5f0d9d2a0e92c20d42a4a3e8e8f2e12
X-WR-TIMEZONE:America/Chicago
BEGIN:VTIMEZONE
TZID:America/Chicago
BEGIN:STANDARD
TZNAME:CST
DTSTART:20241103T020000
TZOFFSETFROM:-0500
TZOFFSETTO:-0600
RDATE:20251102T020000
RDATE:20261101T020000
END:STANDARD
BEGIN:DAYLIGHT
TZNAME:CDT
DTSTART:20250309T020000
TZOFFSETFROM:-0600
TZOFFSETTO:-0500
RDATE:20260308T020000
RDATE:20270314T020000
END:DAYLIGHT
END:VTIMEZONE
BEGIN:VEVENT
UID:3018f0c6-2317-4a48-84e1-69102b53d1d7
DTSTAMP:20260419T214042Z
DESCRIPTION:Low impact exercise class
DTSTART;TZID=America/Chicago:20251027T103000
DTEND;TZID=America/Chicago:20251027T113000
LOCATION:Kindred City Hall
SUMMARY:Kindred Bone Builders
END:VEVENT
END:VCALENDAR
