BEGIN:VCALENDAR
VERSION:2.0
PRODID:-//communityofcarend.com//NONSGML kigkonsult.se iCalcreator 2.30.10/
 /
CALSCALE:GREGORIAN
METHOD:PUBLISH
UID:8503c978-d154-4222-879a-f11e064c6aad
X-WR-CALDESC:
X-WR-RELCALID:e8b304d33ead9218d8e0624b0360c348
X-WR-TIMEZONE:America/Chicago
BEGIN:VTIMEZONE
TZID:America/Chicago
BEGIN:STANDARD
TZNAME:CST
DTSTART:20241103T020000
TZOFFSETFROM:-0500
TZOFFSETTO:-0600
RDATE:20251102T020000
RDATE:20261101T020000
END:STANDARD
BEGIN:DAYLIGHT
TZNAME:CDT
DTSTART:20250309T020000
TZOFFSETFROM:-0600
TZOFFSETTO:-0500
RDATE:20260308T020000
RDATE:20270314T020000
END:DAYLIGHT
END:VTIMEZONE
BEGIN:VEVENT
UID:bc74be48-cbae-43bb-a836-5fa018eb06af
DTSTAMP:20260419T215258Z
DESCRIPTION:
DTSTART;TZID=America/Chicago:20251023T130000
DTEND;TZID=America/Chicago:20251023T140000
LOCATION:Harwood Community Center
SUMMARY:Harwood Bone Builders
END:VEVENT
END:VCALENDAR
