BEGIN:VCALENDAR
VERSION:2.0
PRODID:-//communityofcarend.com//NONSGML kigkonsult.se iCalcreator 2.30.10/
 /
CALSCALE:GREGORIAN
METHOD:PUBLISH
UID:71e26d57-fd14-47c4-9589-d33a8ea57995
X-WR-CALDESC:Low-impact exercise classes.
X-WR-RELCALID:918ac9c171a2dd08ed944262cc2310e3
X-WR-TIMEZONE:America/Chicago
BEGIN:VTIMEZONE
TZID:America/Chicago
BEGIN:STANDARD
TZNAME:CST
DTSTART:20241103T020000
TZOFFSETFROM:-0500
TZOFFSETTO:-0600
RDATE:20251102T020000
RDATE:20261101T020000
END:STANDARD
BEGIN:DAYLIGHT
TZNAME:CDT
DTSTART:20250309T020000
TZOFFSETFROM:-0600
TZOFFSETTO:-0500
RDATE:20260308T020000
RDATE:20270314T020000
END:DAYLIGHT
END:VTIMEZONE
BEGIN:VEVENT
UID:c0f16958-c38a-4e82-8fc8-c8a39bc9c936
DTSTAMP:20260419T214011Z
DESCRIPTION:Low-impact exercise classes.
DTSTART;TZID=America/Chicago:20251017T103000
DTEND;TZID=America/Chicago:20251017T113000
LOCATION:Kindred City Hall
SUMMARY:Kindred Bone Builders
END:VEVENT
END:VCALENDAR
