BEGIN:VCALENDAR
VERSION:2.0
PRODID:-//communityofcarend.com//NONSGML kigkonsult.se iCalcreator 2.30.10/
 /
CALSCALE:GREGORIAN
METHOD:PUBLISH
UID:a53122e8-3a35-4d5b-b052-fa420392312e
X-WR-CALDESC:Bone Builder Exercise Class
X-WR-RELCALID:11ceed6309e2a12f20281a9303e6ba32
X-WR-TIMEZONE:America/Chicago
BEGIN:VTIMEZONE
TZID:America/Chicago
BEGIN:STANDARD
TZNAME:CST
DTSTART:20241103T020000
TZOFFSETFROM:-0500
TZOFFSETTO:-0600
RDATE:20251102T020000
RDATE:20261101T020000
END:STANDARD
BEGIN:DAYLIGHT
TZNAME:CDT
DTSTART:20250309T020000
TZOFFSETFROM:-0600
TZOFFSETTO:-0500
RDATE:20260308T020000
RDATE:20270314T020000
END:DAYLIGHT
END:VTIMEZONE
BEGIN:VEVENT
UID:64326c28-4b5d-45f1-984c-d51a47cd02e3
DTSTAMP:20260419T230720Z
DESCRIPTION:Bone Builder Exercise Class
DTSTART;TZID=America/Chicago:20250915T100000
DTEND;TZID=America/Chicago:20250915T110000
LOCATION:Horace Senior Center
SUMMARY:Horace Bone Builders
END:VEVENT
END:VCALENDAR
