BEGIN:VCALENDAR
VERSION:2.0
PRODID:-//communityofcarend.com//NONSGML kigkonsult.se iCalcreator 2.30.10/
 /
CALSCALE:GREGORIAN
METHOD:PUBLISH
UID:fd608bd2-3e19-4b7e-b0d4-5b4144b0f8c6
X-WR-CALDESC:Low impact exercise class
X-WR-RELCALID:82e599edf918efc304092324cbd5ad2a
X-WR-TIMEZONE:America/Chicago
BEGIN:VTIMEZONE
TZID:America/Chicago
BEGIN:STANDARD
TZNAME:CST
DTSTART:20241103T020000
TZOFFSETFROM:-0500
TZOFFSETTO:-0600
RDATE:20251102T020000
RDATE:20261101T020000
END:STANDARD
BEGIN:DAYLIGHT
TZNAME:CDT
DTSTART:20250309T020000
TZOFFSETFROM:-0600
TZOFFSETTO:-0500
RDATE:20260308T020000
END:DAYLIGHT
END:VTIMEZONE
BEGIN:VEVENT
UID:52162496-c998-4f34-b6a1-def60e93eb19
DTSTAMP:20260419T225653Z
DESCRIPTION:Low impact exercise class
DTSTART;TZID=America/Chicago:20250901T103000
DTEND;TZID=America/Chicago:20250901T113000
LOCATION:Kindred City Hall
SUMMARY:Kindred Bone Builders
END:VEVENT
END:VCALENDAR
