BEGIN:VCALENDAR
VERSION:2.0
PRODID:-//communityofcarend.com//NONSGML kigkonsult.se iCalcreator 2.30.10/
 /
CALSCALE:GREGORIAN
METHOD:PUBLISH
UID:74ec2d86-27f4-42cb-93cd-14a8bb219d88
X-WR-CALDESC:Bone Builder Exercise Class
X-WR-RELCALID:fb7d5471734dc5b0cdf68f8b1221e5a7
X-WR-TIMEZONE:America/Chicago
BEGIN:VTIMEZONE
TZID:America/Chicago
BEGIN:STANDARD
TZNAME:CST
DTSTART:20241103T020000
TZOFFSETFROM:-0500
TZOFFSETTO:-0600
RDATE:20251102T020000
RDATE:20261101T020000
END:STANDARD
BEGIN:DAYLIGHT
TZNAME:CDT
DTSTART:20250309T020000
TZOFFSETFROM:-0600
TZOFFSETTO:-0500
RDATE:20260308T020000
END:DAYLIGHT
END:VTIMEZONE
BEGIN:VEVENT
UID:c0074910-6f57-4987-9dc3-a4e538015e93
DTSTAMP:20260420T003136Z
DESCRIPTION:Bone Builder Exercise Class
DTSTART;TZID=America/Chicago:20250804T100000
DTEND;TZID=America/Chicago:20250804T110000
LOCATION:Horace Senior Center
SUMMARY:Horace Bone Builders
END:VEVENT
END:VCALENDAR
