BEGIN:VCALENDAR
VERSION:2.0
PRODID:-//communityofcarend.com//NONSGML kigkonsult.se iCalcreator 2.30.10/
 /
CALSCALE:GREGORIAN
METHOD:PUBLISH
UID:a82f0cc2-6b9f-46fd-ac93-123ac7d1b2bd
X-WR-CALDESC:Low-impact exercise classes.
X-WR-RELCALID:554f38fb8f20ec58f44421b241298133
X-WR-TIMEZONE:America/Chicago
BEGIN:VTIMEZONE
TZID:America/Chicago
BEGIN:STANDARD
TZNAME:CST
DTSTART:20241103T020000
TZOFFSETFROM:-0500
TZOFFSETTO:-0600
RDATE:20251102T020000
RDATE:20261101T020000
END:STANDARD
BEGIN:DAYLIGHT
TZNAME:CDT
DTSTART:20250309T020000
TZOFFSETFROM:-0600
TZOFFSETTO:-0500
RDATE:20260308T020000
END:DAYLIGHT
END:VTIMEZONE
BEGIN:VEVENT
UID:6fd97b2f-90eb-4dbe-9d25-f69b46c4d34a
DTSTAMP:20260420T003719Z
DESCRIPTION:Low-impact exercise classes.
DTSTART;TZID=America/Chicago:20250801T103000
DTEND;TZID=America/Chicago:20250801T113000
LOCATION:Kindred City Hall
SUMMARY:Bone Builders - Kindred City Hall
END:VEVENT
END:VCALENDAR
