BEGIN:VCALENDAR
VERSION:2.0
PRODID:-//communityofcarend.com//NONSGML kigkonsult.se iCalcreator 2.30.10/
 /
CALSCALE:GREGORIAN
METHOD:PUBLISH
UID:c1d77807-69b9-4028-a52b-f034ced84cb4
X-WR-CALDESC:Bone Builder Exercise Class
X-WR-RELCALID:bb02017bfcb62d8009a9769f6d661a22
X-WR-TIMEZONE:America/Chicago
BEGIN:VTIMEZONE
TZID:America/Chicago
BEGIN:STANDARD
TZNAME:CST
DTSTART:20241103T020000
TZOFFSETFROM:-0500
TZOFFSETTO:-0600
RDATE:20251102T020000
RDATE:20261101T020000
END:STANDARD
BEGIN:DAYLIGHT
TZNAME:CDT
DTSTART:20250309T020000
TZOFFSETFROM:-0600
TZOFFSETTO:-0500
RDATE:20260308T020000
END:DAYLIGHT
END:VTIMEZONE
BEGIN:VEVENT
UID:534f50f0-fdce-4f52-b993-3a9c1eba6a83
DTSTAMP:20260420T020310Z
DESCRIPTION:Bone Builder Exercise Class
DTSTART;TZID=America/Chicago:20250731T100000
DTEND;TZID=America/Chicago:20250731T110000
LOCATION:Horace Senior Center
SUMMARY:Horace Bone Builders
END:VEVENT
END:VCALENDAR
