BEGIN:VCALENDAR
VERSION:2.0
PRODID:-//communityofcarend.com//NONSGML kigkonsult.se iCalcreator 2.30.10/
 /
CALSCALE:GREGORIAN
METHOD:PUBLISH
UID:a1b932e6-e100-44c3-a3e7-019015e69bfe
X-WR-CALDESC:Low impact exercise class
X-WR-RELCALID:1724dd59532ebdf350b523f43b9bdf8a
X-WR-TIMEZONE:America/Chicago
BEGIN:VTIMEZONE
TZID:America/Chicago
BEGIN:STANDARD
TZNAME:CST
DTSTART:20241103T020000
TZOFFSETFROM:-0500
TZOFFSETTO:-0600
RDATE:20251102T020000
RDATE:20261101T020000
END:STANDARD
BEGIN:DAYLIGHT
TZNAME:CDT
DTSTART:20250309T020000
TZOFFSETFROM:-0600
TZOFFSETTO:-0500
RDATE:20260308T020000
END:DAYLIGHT
END:VTIMEZONE
BEGIN:VEVENT
UID:dbd380fc-6ee8-47d7-a0ff-9b0e27128a71
DTSTAMP:20260420T020229Z
DESCRIPTION:Low impact exercise class
DTSTART;TZID=America/Chicago:20250728T103000
DTEND;TZID=America/Chicago:20250728T113000
LOCATION:Kindred City Hall
SUMMARY:Kindred Bone Builders
END:VEVENT
END:VCALENDAR
