BEGIN:VCALENDAR
VERSION:2.0
PRODID:-//communityofcarend.com//NONSGML kigkonsult.se iCalcreator 2.30.10/
 /
CALSCALE:GREGORIAN
METHOD:PUBLISH
UID:02451d1e-4d76-4db1-84f9-190aed40b164
X-WR-CALDESC:Bone Builder Exercise Class
X-WR-RELCALID:e00f85dad4b83cacd9adfa9cb841a549
X-WR-TIMEZONE:America/Chicago
BEGIN:VTIMEZONE
TZID:America/Chicago
BEGIN:STANDARD
TZNAME:CST
DTSTART:20241103T020000
TZOFFSETFROM:-0500
TZOFFSETTO:-0600
RDATE:20251102T020000
RDATE:20261101T020000
END:STANDARD
BEGIN:DAYLIGHT
TZNAME:CDT
DTSTART:20250309T020000
TZOFFSETFROM:-0600
TZOFFSETTO:-0500
RDATE:20260308T020000
END:DAYLIGHT
END:VTIMEZONE
BEGIN:VEVENT
UID:68a77193-89da-480b-9a1f-9ebb3bbb2948
DTSTAMP:20260420T021736Z
DESCRIPTION:Bone Builder Exercise Class
DTSTART;TZID=America/Chicago:20250724T100000
DTEND;TZID=America/Chicago:20250724T110000
LOCATION:Horace Senior Center
SUMMARY:Horace Bone Builders
END:VEVENT
END:VCALENDAR
