BEGIN:VCALENDAR
VERSION:2.0
PRODID:-//communityofcarend.com//NONSGML kigkonsult.se iCalcreator 2.30.10/
 /
CALSCALE:GREGORIAN
METHOD:PUBLISH
UID:e1722fc7-5f88-4199-8fad-541170c7db16
X-WR-CALDESC:Low-impact exercise classes.
X-WR-RELCALID:2eb1cfec401784069649e0bbe7277ae9
X-WR-TIMEZONE:America/Chicago
BEGIN:VTIMEZONE
TZID:America/Chicago
BEGIN:STANDARD
TZNAME:CST
DTSTART:20241103T020000
TZOFFSETFROM:-0500
TZOFFSETTO:-0600
RDATE:20251102T020000
RDATE:20261101T020000
END:STANDARD
BEGIN:DAYLIGHT
TZNAME:CDT
DTSTART:20250309T020000
TZOFFSETFROM:-0600
TZOFFSETTO:-0500
RDATE:20260308T020000
END:DAYLIGHT
END:VTIMEZONE
BEGIN:VEVENT
UID:c55d7781-2295-467e-8752-dae9cba3faf8
DTSTAMP:20260420T021403Z
DESCRIPTION:Low-impact exercise classes.
DTSTART;TZID=America/Chicago:20250718T103000
DTEND;TZID=America/Chicago:20250718T113000
LOCATION:Kindred City Hall
SUMMARY:Bone Builders - Kindred City Hall
END:VEVENT
END:VCALENDAR
