BEGIN:VCALENDAR
VERSION:2.0
PRODID:-//communityofcarend.com//NONSGML kigkonsult.se iCalcreator 2.30.10/
 /
CALSCALE:GREGORIAN
METHOD:PUBLISH
UID:b46ed10a-e313-48b3-9920-01a69323d8ca
X-WR-CALDESC:Low-impact exercise classes.
X-WR-RELCALID:bee3fba1e912b066bd487997e6b2c66f
X-WR-TIMEZONE:America/Chicago
BEGIN:VTIMEZONE
TZID:America/Chicago
BEGIN:STANDARD
TZNAME:CST
DTSTART:20241103T020000
TZOFFSETFROM:-0500
TZOFFSETTO:-0600
RDATE:20251102T020000
RDATE:20261101T020000
END:STANDARD
BEGIN:DAYLIGHT
TZNAME:CDT
DTSTART:20250309T020000
TZOFFSETFROM:-0600
TZOFFSETTO:-0500
RDATE:20260308T020000
END:DAYLIGHT
END:VTIMEZONE
BEGIN:VEVENT
UID:c779691e-73bd-439a-ab14-84c9feff1e67
DTSTAMP:20260420T034647Z
DESCRIPTION:Low-impact exercise classes.
DTSTART;TZID=America/Chicago:20250627T103000
DTEND;TZID=America/Chicago:20250627T113000
LOCATION:Kindred City Hall
SUMMARY:Bone Builders - Kindred City Hall
END:VEVENT
END:VCALENDAR
