BEGIN:VCALENDAR
VERSION:2.0
PRODID:-//communityofcarend.com//NONSGML kigkonsult.se iCalcreator 2.30.10/
 /
CALSCALE:GREGORIAN
METHOD:PUBLISH
UID:72715b44-6bc4-4e9e-a832-0e2d7d6251bb
X-WR-CALDESC:
X-WR-RELCALID:954a6dcba26ff2d3c55f2c6bf326dfa1
X-WR-TIMEZONE:America/Chicago
BEGIN:VTIMEZONE
TZID:America/Chicago
BEGIN:STANDARD
TZNAME:CST
DTSTART:20241103T020000
TZOFFSETFROM:-0500
TZOFFSETTO:-0600
RDATE:20251102T020000
RDATE:20261101T020000
END:STANDARD
BEGIN:DAYLIGHT
TZNAME:CDT
DTSTART:20250309T020000
TZOFFSETFROM:-0600
TZOFFSETTO:-0500
RDATE:20260308T020000
END:DAYLIGHT
END:VTIMEZONE
BEGIN:VEVENT
UID:a1faae79-da62-481b-97cd-222075766cd1
DTSTAMP:20260420T034819Z
DESCRIPTION:
DTSTART;TZID=America/Chicago:20250626T094500
DTEND;TZID=America/Chicago:20250626T104500
LOCATION:Arthur United Methodist Church
SUMMARY:Bone Builders - Arthur United Methodist Church
END:VEVENT
END:VCALENDAR
