BEGIN:VCALENDAR
VERSION:2.0
PRODID:-//communityofcarend.com//NONSGML kigkonsult.se iCalcreator 2.30.10/
 /
CALSCALE:GREGORIAN
METHOD:PUBLISH
UID:1d020d8b-d1c9-4773-985f-3030e4d4c977
X-WR-CALDESC:Low impact exercise class
X-WR-RELCALID:a860547c1267876d32a8f634b4eed02a
X-WR-TIMEZONE:America/Chicago
BEGIN:VTIMEZONE
TZID:America/Chicago
BEGIN:STANDARD
TZNAME:CST
DTSTART:20241103T020000
TZOFFSETFROM:-0500
TZOFFSETTO:-0600
RDATE:20251102T020000
RDATE:20261101T020000
END:STANDARD
BEGIN:DAYLIGHT
TZNAME:CDT
DTSTART:20250309T020000
TZOFFSETFROM:-0600
TZOFFSETTO:-0500
RDATE:20260308T020000
END:DAYLIGHT
END:VTIMEZONE
BEGIN:VEVENT
UID:01091010-ef06-47ed-83c8-8f8d407ad82a
DTSTAMP:20260420T033334Z
DESCRIPTION:Low impact exercise class
DTSTART;TZID=America/Chicago:20250616T103000
DTEND;TZID=America/Chicago:20250616T113000
LOCATION:Kindred City Hall
SUMMARY:Kindred Bone Builders
END:VEVENT
END:VCALENDAR
