BEGIN:VCALENDAR
VERSION:2.0
PRODID:-//communityofcarend.com//NONSGML kigkonsult.se iCalcreator 2.30.10/
 /
CALSCALE:GREGORIAN
METHOD:PUBLISH
UID:191d9482-d611-400b-abd2-37f0e5b2f425
X-WR-CALDESC:Low-impact exercise classes.
X-WR-RELCALID:c90055fbffbe380efcffdf589d637e71
X-WR-TIMEZONE:America/Chicago
BEGIN:VTIMEZONE
TZID:America/Chicago
BEGIN:STANDARD
TZNAME:CST
DTSTART:20241103T020000
TZOFFSETFROM:-0500
TZOFFSETTO:-0600
RDATE:20251102T020000
RDATE:20261101T020000
END:STANDARD
BEGIN:DAYLIGHT
TZNAME:CDT
DTSTART:20250309T020000
TZOFFSETFROM:-0600
TZOFFSETTO:-0500
RDATE:20260308T020000
END:DAYLIGHT
END:VTIMEZONE
BEGIN:VEVENT
UID:ed395bed-a940-48aa-b60f-55ae91d265ff
DTSTAMP:20260420T034641Z
DESCRIPTION:Low-impact exercise classes.
DTSTART;TZID=America/Chicago:20250613T103000
DTEND;TZID=America/Chicago:20250613T113000
LOCATION:Kindred City Hall
SUMMARY:Bone Builders - Kindred City Hall
END:VEVENT
END:VCALENDAR
