BEGIN:VCALENDAR
VERSION:2.0
PRODID:-//communityofcarend.com//NONSGML kigkonsult.se iCalcreator 2.30.10/
 /
CALSCALE:GREGORIAN
METHOD:PUBLISH
UID:bbe30623-bc31-4bab-a6b3-5d5cc7fc2a4b
X-WR-CALDESC:
X-WR-RELCALID:7b04ac85b06bdee12ac380f67f2df739
X-WR-TIMEZONE:America/Chicago
BEGIN:VTIMEZONE
TZID:America/Chicago
BEGIN:STANDARD
TZNAME:CST
DTSTART:20241103T020000
TZOFFSETFROM:-0500
TZOFFSETTO:-0600
RDATE:20251102T020000
RDATE:20261101T020000
END:STANDARD
BEGIN:DAYLIGHT
TZNAME:CDT
DTSTART:20250309T020000
TZOFFSETFROM:-0600
TZOFFSETTO:-0500
RDATE:20260308T020000
END:DAYLIGHT
END:VTIMEZONE
BEGIN:VEVENT
UID:558ec805-3938-45df-8b3d-5a0d933de3f8
DTSTAMP:20260420T035009Z
DESCRIPTION:
DTSTART;TZID=America/Chicago:20250612T100000
DTEND;TZID=America/Chicago:20250612T120000
LOCATION:
SUMMARY:C of Care Board Meeting
END:VEVENT
END:VCALENDAR
