BEGIN:VCALENDAR
VERSION:2.0
PRODID:-//communityofcarend.com//NONSGML kigkonsult.se iCalcreator 2.30.10/
 /
CALSCALE:GREGORIAN
METHOD:PUBLISH
UID:e3a0a13a-5786-4d9d-a9c1-80668c5ce67f
X-WR-CALDESC:Low impact exercise class
X-WR-RELCALID:70c207714f57f796b7e840a3c1ef91a2
X-WR-TIMEZONE:America/Chicago
BEGIN:VTIMEZONE
TZID:America/Chicago
BEGIN:STANDARD
TZNAME:CST
DTSTART:20241103T020000
TZOFFSETFROM:-0500
TZOFFSETTO:-0600
RDATE:20251102T020000
RDATE:20261101T020000
END:STANDARD
BEGIN:DAYLIGHT
TZNAME:CDT
DTSTART:20250309T020000
TZOFFSETFROM:-0600
TZOFFSETTO:-0500
RDATE:20260308T020000
END:DAYLIGHT
END:VTIMEZONE
BEGIN:VEVENT
UID:6a6470e3-2264-4b1f-9040-47ced3d971ca
DTSTAMP:20260420T050628Z
DESCRIPTION:Low impact exercise class
DTSTART;TZID=America/Chicago:20250519T103000
DTEND;TZID=America/Chicago:20250519T113000
LOCATION:Kindred City Hall
SUMMARY:Kindred Bone Builders
END:VEVENT
END:VCALENDAR
