BEGIN:VCALENDAR
VERSION:2.0
PRODID:-//communityofcarend.com//NONSGML kigkonsult.se iCalcreator 2.30.10/
 /
CALSCALE:GREGORIAN
METHOD:PUBLISH
UID:f6988477-36d4-4bff-b325-c2e235072d59
X-WR-CALDESC:
X-WR-RELCALID:d17b2a3f6181eed1b6c81e6b614e763c
X-WR-TIMEZONE:America/Chicago
BEGIN:VTIMEZONE
TZID:America/Chicago
BEGIN:STANDARD
TZNAME:CST
DTSTART:20241103T020000
TZOFFSETFROM:-0500
TZOFFSETTO:-0600
RDATE:20251102T020000
END:STANDARD
BEGIN:DAYLIGHT
TZNAME:CDT
DTSTART:20250309T020000
TZOFFSETFROM:-0600
TZOFFSETTO:-0500
RDATE:20260308T020000
END:DAYLIGHT
END:VTIMEZONE
BEGIN:VEVENT
UID:86687d54-574a-4ee4-a083-996519f0679b
DTSTAMP:20260420T051624Z
DESCRIPTION:
DTSTART;TZID=America/Chicago:20250501T094500
DTEND;TZID=America/Chicago:20250501T104500
LOCATION:Arthur United Methodist Church
SUMMARY:Bone Builders - Arthur United Methodist Church
END:VEVENT
END:VCALENDAR
