BEGIN:VCALENDAR
VERSION:2.0
PRODID:-//communityofcarend.com//NONSGML kigkonsult.se iCalcreator 2.30.10/
 /
CALSCALE:GREGORIAN
METHOD:PUBLISH
UID:e8f8097b-408b-48e8-90a4-c69cb4b4f717
X-WR-CALDESC:Low impact exercise class
X-WR-RELCALID:5c60bc8e885648b50c8dda71e2e829e3
X-WR-TIMEZONE:America/Chicago
BEGIN:VTIMEZONE
TZID:America/Chicago
BEGIN:STANDARD
TZNAME:CST
DTSTART:20241103T020000
TZOFFSETFROM:-0500
TZOFFSETTO:-0600
RDATE:20251102T020000
END:STANDARD
BEGIN:DAYLIGHT
TZNAME:CDT
DTSTART:20250309T020000
TZOFFSETFROM:-0600
TZOFFSETTO:-0500
RDATE:20260308T020000
END:DAYLIGHT
END:VTIMEZONE
BEGIN:VEVENT
UID:d07c0a20-778d-43d1-8faa-3243a26545c3
DTSTAMP:20260420T064030Z
DESCRIPTION:Low impact exercise class
DTSTART;TZID=America/Chicago:20250414T103000
DTEND;TZID=America/Chicago:20250414T113000
LOCATION:Kindred City Hall
SUMMARY:Kindred Bone Builders
END:VEVENT
END:VCALENDAR
