BEGIN:VCALENDAR
VERSION:2.0
PRODID:-//communityofcarend.com//NONSGML kigkonsult.se iCalcreator 2.30.10/
 /
CALSCALE:GREGORIAN
METHOD:PUBLISH
UID:2d18e6dd-dfd7-47b9-a7dd-1cd0c8561915
X-WR-CALDESC:Low impact exercise class
X-WR-RELCALID:9c1910ac9ce0363cf7b1a57bff3a89d4
X-WR-TIMEZONE:America/Chicago
BEGIN:VTIMEZONE
TZID:America/Chicago
BEGIN:STANDARD
TZNAME:CST
DTSTART:20241103T020000
TZOFFSETFROM:-0500
TZOFFSETTO:-0600
RDATE:20251102T020000
END:STANDARD
BEGIN:DAYLIGHT
TZNAME:CDT
DTSTART:20250309T020000
TZOFFSETFROM:-0600
TZOFFSETTO:-0500
RDATE:20260308T020000
END:DAYLIGHT
END:VTIMEZONE
BEGIN:VEVENT
UID:976cb94c-2454-487b-a0f2-0d93bf028040
DTSTAMP:20260420T064024Z
DESCRIPTION:Low impact exercise class
DTSTART;TZID=America/Chicago:20250407T103000
DTEND;TZID=America/Chicago:20250407T113000
LOCATION:Kindred City Hall
SUMMARY:Kindred Bone Builders
END:VEVENT
END:VCALENDAR
