BEGIN:VCALENDAR
VERSION:2.0
PRODID:-//communityofcarend.com//NONSGML kigkonsult.se iCalcreator 2.30.10/
 /
CALSCALE:GREGORIAN
METHOD:PUBLISH
UID:f8b45e61-290b-4317-b6ef-574d4656909d
X-WR-CALDESC:
X-WR-RELCALID:d2e2cd375cf257a1962222cdaaa15665
X-WR-TIMEZONE:America/Chicago
BEGIN:VTIMEZONE
TZID:America/Chicago
BEGIN:STANDARD
TZNAME:CST
DTSTART:20241103T020000
TZOFFSETFROM:-0500
TZOFFSETTO:-0600
RDATE:20251102T020000
END:STANDARD
BEGIN:DAYLIGHT
TZNAME:CDT
DTSTART:20250309T020000
TZOFFSETFROM:-0600
TZOFFSETTO:-0500
RDATE:20260308T020000
END:DAYLIGHT
END:VTIMEZONE
BEGIN:VEVENT
UID:d3014ea6-110a-45b5-abda-53cb2413c11a
DTSTAMP:20260420T064714Z
DESCRIPTION:
DTSTART;TZID=America/Chicago:20250403T094500
DTEND;TZID=America/Chicago:20250403T104500
LOCATION:Arthur United Methodist Church
SUMMARY:Bone Builders - Arthur United Methodist Church
END:VEVENT
END:VCALENDAR
