BEGIN:VCALENDAR
VERSION:2.0
PRODID:-//communityofcarend.com//NONSGML kigkonsult.se iCalcreator 2.30.10/
 /
CALSCALE:GREGORIAN
METHOD:PUBLISH
UID:11d21820-252e-4a48-9613-5f3756c4b899
X-WR-CALDESC:Low impact exercise class
X-WR-RELCALID:d3d2caa7b2d3892d4ae5005e96f77829
X-WR-TIMEZONE:America/Chicago
BEGIN:VTIMEZONE
TZID:America/Chicago
BEGIN:STANDARD
TZNAME:CST
DTSTART:20241103T020000
TZOFFSETFROM:-0500
TZOFFSETTO:-0600
RDATE:20251102T020000
END:STANDARD
BEGIN:DAYLIGHT
TZNAME:CDT
DTSTART:20250309T020000
TZOFFSETFROM:-0600
TZOFFSETTO:-0500
RDATE:20260308T020000
END:DAYLIGHT
END:VTIMEZONE
BEGIN:VEVENT
UID:f25e51a0-5bfc-47a6-b012-981489301e33
DTSTAMP:20260420T080914Z
DESCRIPTION:Low impact exercise class
DTSTART;TZID=America/Chicago:20250331T103000
DTEND;TZID=America/Chicago:20250331T113000
LOCATION:Kindred City Hall
SUMMARY:Kindred Bone Builders
END:VEVENT
END:VCALENDAR
