BEGIN:VCALENDAR
VERSION:2.0
PRODID:-//communityofcarend.com//NONSGML kigkonsult.se iCalcreator 2.30.10/
 /
CALSCALE:GREGORIAN
METHOD:PUBLISH
UID:15ac43ae-3217-45c7-8ebf-5993ce81f65e
X-WR-CALDESC:
X-WR-RELCALID:03ca1b11f2c121d944c7cc3a05d5e848
X-WR-TIMEZONE:America/Chicago
BEGIN:VTIMEZONE
TZID:America/Chicago
BEGIN:STANDARD
TZNAME:CST
DTSTART:20241103T020000
TZOFFSETFROM:-0500
TZOFFSETTO:-0600
RDATE:20251102T020000
END:STANDARD
BEGIN:DAYLIGHT
TZNAME:CDT
DTSTART:20250309T020000
TZOFFSETFROM:-0600
TZOFFSETTO:-0500
RDATE:20260308T020000
END:DAYLIGHT
END:VTIMEZONE
BEGIN:VEVENT
UID:59a96571-b082-4fd8-af43-23577cb1b5d8
DTSTAMP:20260420T081501Z
DESCRIPTION:
DTSTART;TZID=America/Chicago:20250325T130000
DTEND;TZID=America/Chicago:20250325T140000
LOCATION:
SUMMARY:Bone Builders - Harwood
END:VEVENT
END:VCALENDAR
