BEGIN:VCALENDAR
VERSION:2.0
PRODID:-//communityofcarend.com//NONSGML kigkonsult.se iCalcreator 2.30.10/
 /
CALSCALE:GREGORIAN
METHOD:PUBLISH
UID:4ae3227e-a2a6-44bb-b7fc-af11cf6d125c
X-WR-CALDESC:Low impact exercise class
X-WR-RELCALID:870bb34888eb2276490d88b80ef79b9c
X-WR-TIMEZONE:America/Chicago
BEGIN:VTIMEZONE
TZID:America/Chicago
BEGIN:STANDARD
TZNAME:CST
DTSTART:20241103T020000
TZOFFSETFROM:-0500
TZOFFSETTO:-0600
RDATE:20251102T020000
END:STANDARD
BEGIN:DAYLIGHT
TZNAME:CDT
DTSTART:20250309T020000
TZOFFSETFROM:-0600
TZOFFSETTO:-0500
RDATE:20260308T020000
END:DAYLIGHT
END:VTIMEZONE
BEGIN:VEVENT
UID:ad834ccb-9086-452c-ab42-a7be11ec3c0e
DTSTAMP:20260420T080915Z
DESCRIPTION:Low impact exercise class
DTSTART;TZID=America/Chicago:20250324T103000
DTEND;TZID=America/Chicago:20250324T113000
LOCATION:Kindred City Hall
SUMMARY:Kindred Bone Builders
END:VEVENT
END:VCALENDAR
