BEGIN:VCALENDAR
VERSION:2.0
PRODID:-//communityofcarend.com//NONSGML kigkonsult.se iCalcreator 2.30.10/
 /
CALSCALE:GREGORIAN
METHOD:PUBLISH
UID:eee5de4a-4d1f-4041-abc9-52e10ccc6c45
X-WR-CALDESC:Low impact exercise class
X-WR-RELCALID:1b041d13949289d6403be4f409f0d219
X-WR-TIMEZONE:America/Chicago
BEGIN:VTIMEZONE
TZID:America/Chicago
BEGIN:STANDARD
TZNAME:CST
DTSTART:20241103T020000
TZOFFSETFROM:-0500
TZOFFSETTO:-0600
RDATE:20251102T020000
END:STANDARD
BEGIN:DAYLIGHT
TZNAME:CDT
DTSTART:20250309T020000
TZOFFSETFROM:-0600
TZOFFSETTO:-0500
RDATE:20260308T020000
END:DAYLIGHT
END:VTIMEZONE
BEGIN:VEVENT
UID:429fabed-e1a9-4d3d-ad87-bb8fb152d279
DTSTAMP:20260420T083757Z
DESCRIPTION:Low impact exercise class
DTSTART;TZID=America/Chicago:20250317T103000
DTEND;TZID=America/Chicago:20250317T113000
LOCATION:Kindred City Hall
SUMMARY:Kindred Bone Builders
END:VEVENT
END:VCALENDAR
