BEGIN:VCALENDAR
VERSION:2.0
PRODID:-//communityofcarend.com//NONSGML kigkonsult.se iCalcreator 2.30.10/
 /
CALSCALE:GREGORIAN
METHOD:PUBLISH
UID:6540c467-5b5c-48d3-a57f-105a53bebe30
X-WR-CALDESC:Low-impact exercise classes.
X-WR-RELCALID:51f7e0491f5a061f1d5a7ec761914b06
X-WR-TIMEZONE:America/Chicago
BEGIN:VTIMEZONE
TZID:America/Chicago
BEGIN:STANDARD
TZNAME:CST
DTSTART:20241103T020000
TZOFFSETFROM:-0500
TZOFFSETTO:-0600
RDATE:20251102T020000
END:STANDARD
BEGIN:DAYLIGHT
TZNAME:CDT
DTSTART:20240310T020000
TZOFFSETFROM:-0600
TZOFFSETTO:-0500
RDATE:20250309T020000
RDATE:20260308T020000
END:DAYLIGHT
END:VTIMEZONE
BEGIN:VEVENT
UID:210a4c31-e14b-4f4b-aa1d-50eeb974c755
DTSTAMP:20260420T084624Z
DESCRIPTION:Low-impact exercise classes.
DTSTART;TZID=America/Chicago:20250307T103000
DTEND;TZID=America/Chicago:20250307T113000
LOCATION:Kindred City Hall
SUMMARY:Bone Builders - Kindred City Hall
END:VEVENT
END:VCALENDAR
