BEGIN:VCALENDAR
VERSION:2.0
PRODID:-//communityofcarend.com//NONSGML kigkonsult.se iCalcreator 2.30.10/
 /
CALSCALE:GREGORIAN
METHOD:PUBLISH
UID:6322e059-8dd1-4de3-a2b2-e1b20a70b89a
X-WR-CALDESC:Low-impact exercise classes.
X-WR-RELCALID:afa5710b3edcf833d881aec57523d959
X-WR-TIMEZONE:America/Chicago
BEGIN:VTIMEZONE
TZID:America/Chicago
BEGIN:STANDARD
TZNAME:CST
DTSTART:20241103T020000
TZOFFSETFROM:-0500
TZOFFSETTO:-0600
RDATE:20251102T020000
END:STANDARD
BEGIN:DAYLIGHT
TZNAME:CDT
DTSTART:20240310T020000
TZOFFSETFROM:-0600
TZOFFSETTO:-0500
RDATE:20250309T020000
RDATE:20260308T020000
END:DAYLIGHT
END:VTIMEZONE
BEGIN:VEVENT
UID:0e6747f1-16a6-4ccc-8f32-7c4d6b95bdf1
DTSTAMP:20260420T095030Z
DESCRIPTION:Low-impact exercise classes.
DTSTART;TZID=America/Chicago:20250228T103000
DTEND;TZID=America/Chicago:20250228T113000
LOCATION:Kindred City Hall
SUMMARY:Bone Builders - Kindred City Hall
END:VEVENT
END:VCALENDAR
