BEGIN:VCALENDAR
VERSION:2.0
PRODID:-//communityofcarend.com//NONSGML kigkonsult.se iCalcreator 2.30.10/
 /
CALSCALE:GREGORIAN
METHOD:PUBLISH
UID:8e4a0f54-202a-49db-929e-2c16b37f6c36
X-WR-CALDESC:Low impact exercise class
X-WR-RELCALID:27a77b70f55bd41f77ae5be3da7df6d2
X-WR-TIMEZONE:America/Chicago
BEGIN:VTIMEZONE
TZID:America/Chicago
BEGIN:STANDARD
TZNAME:CST
DTSTART:20241103T020000
TZOFFSETFROM:-0500
TZOFFSETTO:-0600
RDATE:20251102T020000
END:STANDARD
BEGIN:DAYLIGHT
TZNAME:CDT
DTSTART:20240310T020000
TZOFFSETFROM:-0600
TZOFFSETTO:-0500
RDATE:20250309T020000
RDATE:20260308T020000
END:DAYLIGHT
END:VTIMEZONE
BEGIN:VEVENT
UID:f94bc7b6-b05d-435e-a033-0f7c6424bf2e
DTSTAMP:20260420T094157Z
DESCRIPTION:Low impact exercise class
DTSTART;TZID=America/Chicago:20250224T103000
DTEND;TZID=America/Chicago:20250224T113000
LOCATION:Kindred City Hall
SUMMARY:Kindred Bone Builders
END:VEVENT
END:VCALENDAR
