BEGIN:VCALENDAR
VERSION:2.0
PRODID:-//communityofcarend.com//NONSGML kigkonsult.se iCalcreator 2.30.10/
 /
CALSCALE:GREGORIAN
METHOD:PUBLISH
UID:3fe10515-862b-4e4b-97b9-a42ef16b3b17
X-WR-CALDESC:Low-impact exercise classes.
X-WR-RELCALID:72468af88f6ef705f6954db2cc6f9f34
X-WR-TIMEZONE:America/Chicago
BEGIN:VTIMEZONE
TZID:America/Chicago
BEGIN:STANDARD
TZNAME:CST
DTSTART:20241103T020000
TZOFFSETFROM:-0500
TZOFFSETTO:-0600
RDATE:20251102T020000
END:STANDARD
BEGIN:DAYLIGHT
TZNAME:CDT
DTSTART:20240310T020000
TZOFFSETFROM:-0600
TZOFFSETTO:-0500
RDATE:20250309T020000
RDATE:20260308T020000
END:DAYLIGHT
END:VTIMEZONE
BEGIN:VEVENT
UID:11ed6c5c-6da5-4ac4-bbc2-4257bd1dd987
DTSTAMP:20260420T094442Z
DESCRIPTION:Low-impact exercise classes.
DTSTART;TZID=America/Chicago:20250221T103000
DTEND;TZID=America/Chicago:20250221T113000
LOCATION:Kindred City Hall
SUMMARY:Bone Builders - Kindred City Hall
END:VEVENT
END:VCALENDAR
