BEGIN:VCALENDAR
VERSION:2.0
PRODID:-//communityofcarend.com//NONSGML kigkonsult.se iCalcreator 2.30.10/
 /
CALSCALE:GREGORIAN
METHOD:PUBLISH
UID:af515d5c-957f-4fea-8ce3-664f6c037243
X-WR-CALDESC:Low impact exercise class
X-WR-RELCALID:d5857733960286421e68e85aa2b03721
X-WR-TIMEZONE:America/Chicago
BEGIN:VTIMEZONE
TZID:America/Chicago
BEGIN:STANDARD
TZNAME:CST
DTSTART:20241103T020000
TZOFFSETFROM:-0500
TZOFFSETTO:-0600
RDATE:20251102T020000
END:STANDARD
BEGIN:DAYLIGHT
TZNAME:CDT
DTSTART:20240310T020000
TZOFFSETFROM:-0600
TZOFFSETTO:-0500
RDATE:20250309T020000
RDATE:20260308T020000
END:DAYLIGHT
END:VTIMEZONE
BEGIN:VEVENT
UID:6eab4114-d815-476a-a18d-ca37b9ae7ed1
DTSTAMP:20260420T094157Z
DESCRIPTION:Low impact exercise class
DTSTART;TZID=America/Chicago:20250210T103000
DTEND;TZID=America/Chicago:20250210T113000
LOCATION:Kindred City Hall
SUMMARY:Kindred Bone Builders
END:VEVENT
END:VCALENDAR
