BEGIN:VCALENDAR
VERSION:2.0
PRODID:-//communityofcarend.com//NONSGML kigkonsult.se iCalcreator 2.30.10/
 /
CALSCALE:GREGORIAN
METHOD:PUBLISH
UID:ad624e8c-5da7-411b-972d-72bca00389d1
X-WR-CALDESC:Bone Builder Exercise Class
X-WR-RELCALID:9cdd701df7eb07d28677cf5701adc812
X-WR-TIMEZONE:America/Chicago
BEGIN:VTIMEZONE
TZID:America/Chicago
BEGIN:STANDARD
TZNAME:CST
DTSTART:20241103T020000
TZOFFSETFROM:-0500
TZOFFSETTO:-0600
RDATE:20251102T020000
END:STANDARD
BEGIN:DAYLIGHT
TZNAME:CDT
DTSTART:20240310T020000
TZOFFSETFROM:-0600
TZOFFSETTO:-0500
RDATE:20250309T020000
RDATE:20260308T020000
END:DAYLIGHT
END:VTIMEZONE
BEGIN:VEVENT
UID:ba38b04a-2a70-4af1-bd89-a3199ca10ef8
DTSTAMP:20260420T093527Z
DESCRIPTION:Bone Builder Exercise Class
DTSTART;TZID=America/Chicago:20250203T100000
DTEND;TZID=America/Chicago:20250203T110000
LOCATION:Horace Senior Center
SUMMARY:Horace Bone Builders
END:VEVENT
END:VCALENDAR
