BEGIN:VCALENDAR
VERSION:2.0
PRODID:-//communityofcarend.com//NONSGML kigkonsult.se iCalcreator 2.30.10/
 /
CALSCALE:GREGORIAN
METHOD:PUBLISH
UID:45244e41-ccc1-4648-8466-6f80659e8095
X-WR-CALDESC:Low-impact exercise classes.
X-WR-RELCALID:be724ea6a6b150d4e930bd3d10e3cbec
X-WR-TIMEZONE:America/Chicago
BEGIN:VTIMEZONE
TZID:America/Chicago
BEGIN:STANDARD
TZNAME:CST
DTSTART:20241103T020000
TZOFFSETFROM:-0500
TZOFFSETTO:-0600
RDATE:20251102T020000
END:STANDARD
BEGIN:DAYLIGHT
TZNAME:CDT
DTSTART:20240310T020000
TZOFFSETFROM:-0600
TZOFFSETTO:-0500
RDATE:20250309T020000
RDATE:20260308T020000
END:DAYLIGHT
END:VTIMEZONE
BEGIN:VEVENT
UID:36d04d28-fdb6-4c3f-b764-e402e65b0508
DTSTAMP:20260420T110338Z
DESCRIPTION:Low-impact exercise classes.
DTSTART;TZID=America/Chicago:20250124T103000
DTEND;TZID=America/Chicago:20250124T113000
LOCATION:Kindred City Hall
SUMMARY:Bone Builders - Kindred City Hall
END:VEVENT
END:VCALENDAR
