BEGIN:VCALENDAR
VERSION:2.0
PRODID:-//communityofcarend.com//NONSGML kigkonsult.se iCalcreator 2.30.10/
 /
CALSCALE:GREGORIAN
METHOD:PUBLISH
UID:a248e7e9-10dc-4f62-bed5-2473287211f8
X-WR-CALDESC:Bone Builder Exercise Class
X-WR-RELCALID:3a05f552335aa1374818079c181ce6e0
X-WR-TIMEZONE:America/Chicago
BEGIN:VTIMEZONE
TZID:America/Chicago
BEGIN:STANDARD
TZNAME:CST
DTSTART:20241103T020000
TZOFFSETFROM:-0500
TZOFFSETTO:-0600
RDATE:20251102T020000
END:STANDARD
BEGIN:DAYLIGHT
TZNAME:CDT
DTSTART:20240310T020000
TZOFFSETFROM:-0600
TZOFFSETTO:-0500
RDATE:20250309T020000
RDATE:20260308T020000
END:DAYLIGHT
END:VTIMEZONE
BEGIN:VEVENT
UID:bf943cb1-ccb1-4ffb-9064-77a333bcaff2
DTSTAMP:20260420T105854Z
DESCRIPTION:Bone Builder Exercise Class
DTSTART;TZID=America/Chicago:20250120T100000
DTEND;TZID=America/Chicago:20250120T110000
LOCATION:Horace Senior Center
SUMMARY:Horace Bone Builders
END:VEVENT
END:VCALENDAR
