BEGIN:VCALENDAR
VERSION:2.0
PRODID:-//communityofcarend.com//NONSGML kigkonsult.se iCalcreator 2.30.10/
 /
CALSCALE:GREGORIAN
METHOD:PUBLISH
UID:ff50ed0c-9233-4169-875b-a42a9859d196
X-WR-CALDESC:Low-impact exercise classes.
X-WR-RELCALID:e907909f7972c75206b37b83b500b395
X-WR-TIMEZONE:America/Chicago
BEGIN:VTIMEZONE
TZID:America/Chicago
BEGIN:STANDARD
TZNAME:CST
DTSTART:20241103T020000
TZOFFSETFROM:-0500
TZOFFSETTO:-0600
RDATE:20251102T020000
END:STANDARD
BEGIN:DAYLIGHT
TZNAME:CDT
DTSTART:20240310T020000
TZOFFSETFROM:-0600
TZOFFSETTO:-0500
RDATE:20250309T020000
RDATE:20260308T020000
END:DAYLIGHT
END:VTIMEZONE
BEGIN:VEVENT
UID:23a07868-25c6-4a48-9035-24b309627a99
DTSTAMP:20260420T110500Z
DESCRIPTION:Low-impact exercise classes.
DTSTART;TZID=America/Chicago:20250110T103000
DTEND;TZID=America/Chicago:20250110T113000
LOCATION:Kindred City Hall
SUMMARY:Bone Builders - Kindred City Hall
END:VEVENT
END:VCALENDAR
