BEGIN:VCALENDAR
VERSION:2.0
PRODID:-//communityofcarend.com//NONSGML kigkonsult.se iCalcreator 2.30.10/
 /
CALSCALE:GREGORIAN
METHOD:PUBLISH
UID:00928004-f5ad-4f64-987e-77fba61c68a6
X-WR-CALDESC:Low impact exercise class
X-WR-RELCALID:54e4728d0d32c26fe93cd6636f52b422
X-WR-TIMEZONE:America/Chicago
BEGIN:VTIMEZONE
TZID:America/Chicago
BEGIN:STANDARD
TZNAME:CST
DTSTART:20241103T020000
TZOFFSETFROM:-0500
TZOFFSETTO:-0600
RDATE:20251102T020000
END:STANDARD
BEGIN:DAYLIGHT
TZNAME:CDT
DTSTART:20240310T020000
TZOFFSETFROM:-0600
TZOFFSETTO:-0500
RDATE:20250309T020000
RDATE:20260308T020000
END:DAYLIGHT
END:VTIMEZONE
BEGIN:VEVENT
UID:fcba2ea7-423e-4a44-a47e-bcdb0642afc6
DTSTAMP:20260420T100322Z
DESCRIPTION:Low impact exercise class
DTSTART;TZID=America/Chicago:20241223T103000
DTEND;TZID=America/Chicago:20241223T113000
LOCATION:Kindred City Hall
SUMMARY:Kindred Bone Builders
END:VEVENT
END:VCALENDAR
