BEGIN:VCALENDAR
VERSION:2.0
PRODID:-//communityofcarend.com//NONSGML kigkonsult.se iCalcreator 2.30.10/
 /
CALSCALE:GREGORIAN
METHOD:PUBLISH
UID:7ac0db79-52b2-4c19-9b56-f41f9f205bcb
X-WR-CALDESC:Low-impact exercise classes.
X-WR-RELCALID:fffc15db6f238461f6ce3bb4bff968e2
X-WR-TIMEZONE:America/Chicago
BEGIN:VTIMEZONE
TZID:America/Chicago
BEGIN:STANDARD
TZNAME:CST
DTSTART:20241103T020000
TZOFFSETFROM:-0500
TZOFFSETTO:-0600
RDATE:20251102T020000
END:STANDARD
BEGIN:DAYLIGHT
TZNAME:CDT
DTSTART:20240310T020000
TZOFFSETFROM:-0600
TZOFFSETTO:-0500
RDATE:20250309T020000
RDATE:20260308T020000
END:DAYLIGHT
END:VTIMEZONE
BEGIN:VEVENT
UID:44c07419-77cb-4bfc-8fb0-a79b5c4759ec
DTSTAMP:20260420T101122Z
DESCRIPTION:Low-impact exercise classes.
DTSTART;TZID=America/Chicago:20241213T103000
DTEND;TZID=America/Chicago:20241213T113000
LOCATION:Kindred City Hall
SUMMARY:Bone Builders - Kindred City Hall
END:VEVENT
END:VCALENDAR
