BEGIN:VCALENDAR
VERSION:2.0
PRODID:-//communityofcarend.com//NONSGML kigkonsult.se iCalcreator 2.30.10/
 /
CALSCALE:GREGORIAN
METHOD:PUBLISH
UID:7163ec87-e3ca-4487-a232-ff0d14514598
X-WR-CALDESC:Low-impact exercise classes.
X-WR-RELCALID:1ec699c6f483ecd986128900c3ce41e3
X-WR-TIMEZONE:America/Chicago
BEGIN:VTIMEZONE
TZID:America/Chicago
BEGIN:STANDARD
TZNAME:CST
DTSTART:20241103T020000
TZOFFSETFROM:-0500
TZOFFSETTO:-0600
RDATE:20251102T020000
END:STANDARD
BEGIN:DAYLIGHT
TZNAME:CDT
DTSTART:20240310T020000
TZOFFSETFROM:-0600
TZOFFSETTO:-0500
RDATE:20250309T020000
RDATE:20260308T020000
END:DAYLIGHT
END:VTIMEZONE
BEGIN:VEVENT
UID:a2975eff-cd6e-434f-a757-855e70d837cf
DTSTAMP:20260420T101121Z
DESCRIPTION:Low-impact exercise classes.
DTSTART;TZID=America/Chicago:20241206T103000
DTEND;TZID=America/Chicago:20241206T113000
LOCATION:Kindred City Hall
SUMMARY:Bone Builders - Kindred City Hall
END:VEVENT
END:VCALENDAR
