BEGIN:VCALENDAR
VERSION:2.0
PRODID:-//communityofcarend.com//NONSGML kigkonsult.se iCalcreator 2.30.10/
 /
CALSCALE:GREGORIAN
METHOD:PUBLISH
UID:f383128c-d2b9-46fa-8481-6eea72a93b31
X-WR-CALDESC:Low impact exercise class
X-WR-RELCALID:d8723bdd6d075392dc54c05c285b9506
X-WR-TIMEZONE:America/Chicago
BEGIN:VTIMEZONE
TZID:America/Chicago
BEGIN:STANDARD
TZNAME:CST
DTSTART:20241103T020000
TZOFFSETFROM:-0500
TZOFFSETTO:-0600
RDATE:20251102T020000
END:STANDARD
BEGIN:DAYLIGHT
TZNAME:CDT
DTSTART:20240310T020000
TZOFFSETFROM:-0600
TZOFFSETTO:-0500
RDATE:20250309T020000
RDATE:20260308T020000
END:DAYLIGHT
END:VTIMEZONE
BEGIN:VEVENT
UID:61109060-7b2b-4eec-bd2b-f256c8fc9fc1
DTSTAMP:20260420T083924Z
DESCRIPTION:Low impact exercise class
DTSTART;TZID=America/Chicago:20241125T103000
DTEND;TZID=America/Chicago:20241125T113000
LOCATION:Kindred City Hall
SUMMARY:Kindred Bone Builders
END:VEVENT
END:VCALENDAR
