BEGIN:VCALENDAR
VERSION:2.0
PRODID:-//communityofcarend.com//NONSGML kigkonsult.se iCalcreator 2.30.10/
 /
CALSCALE:GREGORIAN
METHOD:PUBLISH
UID:78977905-eee6-4bf5-ba56-91161dac9db2
X-WR-CALDESC:Low impact exercise class
X-WR-RELCALID:4b90f9b2b1f497f16df3a6ac74cef3dd
X-WR-TIMEZONE:America/Chicago
BEGIN:VTIMEZONE
TZID:America/Chicago
BEGIN:STANDARD
TZNAME:CST
DTSTART:20241103T020000
TZOFFSETFROM:-0500
TZOFFSETTO:-0600
RDATE:20251102T020000
END:STANDARD
BEGIN:DAYLIGHT
TZNAME:CDT
DTSTART:20240310T020000
TZOFFSETFROM:-0600
TZOFFSETTO:-0500
RDATE:20250309T020000
RDATE:20260308T020000
END:DAYLIGHT
END:VTIMEZONE
BEGIN:VEVENT
UID:a713240d-e7cc-4a51-a6e4-1d89c1488463
DTSTAMP:20260420T083931Z
DESCRIPTION:Low impact exercise class
DTSTART;TZID=America/Chicago:20241118T103000
DTEND;TZID=America/Chicago:20241118T113000
LOCATION:Kindred City Hall
SUMMARY:Kindred Bone Builders
END:VEVENT
END:VCALENDAR
