BEGIN:VCALENDAR
VERSION:2.0
PRODID:-//communityofcarend.com//NONSGML kigkonsult.se iCalcreator 2.30.10/
 /
CALSCALE:GREGORIAN
METHOD:PUBLISH
UID:5619c0db-7a4e-4bea-a8b3-de9e5fa4c19b
X-WR-CALDESC:Bone Builder Exercise Class
X-WR-RELCALID:1b376288a04f3c432b49282492f4782e
X-WR-TIMEZONE:America/Chicago
BEGIN:VTIMEZONE
TZID:America/Chicago
BEGIN:STANDARD
TZNAME:CST
DTSTART:20241103T020000
TZOFFSETFROM:-0500
TZOFFSETTO:-0600
RDATE:20251102T020000
END:STANDARD
BEGIN:DAYLIGHT
TZNAME:CDT
DTSTART:20240310T020000
TZOFFSETFROM:-0600
TZOFFSETTO:-0500
RDATE:20250309T020000
RDATE:20260308T020000
END:DAYLIGHT
END:VTIMEZONE
BEGIN:VEVENT
UID:4f05c417-b032-44ae-a1aa-c743049f315b
DTSTAMP:20260420T085353Z
DESCRIPTION:Bone Builder Exercise Class
DTSTART;TZID=America/Chicago:20241118T100000
DTEND;TZID=America/Chicago:20241118T110000
LOCATION:Horace Senior Center
SUMMARY:Horace Bone Builders
END:VEVENT
END:VCALENDAR
