BEGIN:VCALENDAR
VERSION:2.0
PRODID:-//communityofcarend.com//NONSGML kigkonsult.se iCalcreator 2.30.10/
 /
CALSCALE:GREGORIAN
METHOD:PUBLISH
UID:494d42f4-a10c-4cd9-a0de-cffb609346a9
X-WR-CALDESC:
X-WR-RELCALID:ff7010d9fe5285f59d63d46cdd82411d
X-WR-TIMEZONE:America/Chicago
BEGIN:VTIMEZONE
TZID:America/Chicago
BEGIN:STANDARD
TZNAME:CST
DTSTART:20231105T020000
TZOFFSETFROM:-0500
TZOFFSETTO:-0600
RDATE:20241103T020000
RDATE:20251102T020000
END:STANDARD
BEGIN:DAYLIGHT
TZNAME:CDT
DTSTART:20240310T020000
TZOFFSETFROM:-0600
TZOFFSETTO:-0500
RDATE:20250309T020000
RDATE:20260308T020000
END:DAYLIGHT
END:VTIMEZONE
BEGIN:VEVENT
UID:4a50c4fd-4f96-4620-a76f-629875df1a86
DTSTAMP:20260420T071520Z
DESCRIPTION:
DTSTART;TZID=America/Chicago:20241029T140000
DTEND;TZID=America/Chicago:20241029T150000
LOCATION:Casselton City Hall
SUMMARY:Casselton Bone Builders
END:VEVENT
END:VCALENDAR
