BEGIN:VCALENDAR
VERSION:2.0
PRODID:-//communityofcarend.com//NONSGML kigkonsult.se iCalcreator 2.30.10/
 /
CALSCALE:GREGORIAN
METHOD:PUBLISH
UID:ed8b3c62-631f-4bac-b3aa-ec0b0c129b12
X-WR-CALDESC:Low impact exercise class
X-WR-RELCALID:f6d56b2effbdfb87dec6fe67e50c362b
X-WR-TIMEZONE:America/Chicago
BEGIN:VTIMEZONE
TZID:America/Chicago
BEGIN:STANDARD
TZNAME:CST
DTSTART:20231105T020000
TZOFFSETFROM:-0500
TZOFFSETTO:-0600
RDATE:20241103T020000
RDATE:20251102T020000
END:STANDARD
BEGIN:DAYLIGHT
TZNAME:CDT
DTSTART:20240310T020000
TZOFFSETFROM:-0600
TZOFFSETTO:-0500
RDATE:20250309T020000
RDATE:20260308T020000
END:DAYLIGHT
END:VTIMEZONE
BEGIN:VEVENT
UID:12d2dad6-5df9-40c0-83b6-ee0e0a75ece0
DTSTAMP:20260420T071345Z
DESCRIPTION:Low impact exercise class
DTSTART;TZID=America/Chicago:20241021T103000
DTEND;TZID=America/Chicago:20241021T113000
LOCATION:Kindred City Hall
SUMMARY:Kindred Bone Builders
END:VEVENT
END:VCALENDAR
