BEGIN:VCALENDAR
VERSION:2.0
PRODID:-//communityofcarend.com//NONSGML kigkonsult.se iCalcreator 2.30.10/
 /
CALSCALE:GREGORIAN
METHOD:PUBLISH
UID:d5d7b53c-e482-4ee3-aadc-145cf342f331
X-WR-CALDESC:Low-impact exercise classes.
X-WR-RELCALID:f03b5bb1601c8d0d73a012eeaa82b382
X-WR-TIMEZONE:America/Chicago
BEGIN:VTIMEZONE
TZID:America/Chicago
BEGIN:STANDARD
TZNAME:CST
DTSTART:20231105T020000
TZOFFSETFROM:-0500
TZOFFSETTO:-0600
RDATE:20241103T020000
RDATE:20251102T020000
END:STANDARD
BEGIN:DAYLIGHT
TZNAME:CDT
DTSTART:20240310T020000
TZOFFSETFROM:-0600
TZOFFSETTO:-0500
RDATE:20250309T020000
RDATE:20260308T020000
END:DAYLIGHT
END:VTIMEZONE
BEGIN:VEVENT
UID:b6601ee7-f1de-496f-821e-cdc88cf66f4b
DTSTAMP:20260420T072252Z
DESCRIPTION:Low-impact exercise classes.
DTSTART;TZID=America/Chicago:20241018T103000
DTEND;TZID=America/Chicago:20241018T113000
LOCATION:Kindred City Hall
SUMMARY:Bone Builders - Kindred City Hall
END:VEVENT
END:VCALENDAR
