BEGIN:VCALENDAR
VERSION:2.0
PRODID:-//communityofcarend.com//NONSGML kigkonsult.se iCalcreator 2.30.10/
 /
CALSCALE:GREGORIAN
METHOD:PUBLISH
UID:9d7607c6-68d9-4512-a5f1-9eb8ab22b6d7
X-WR-CALDESC:Low impact exercise class
X-WR-RELCALID:620b1e8269eb088e9ef682cfd0c81b56
X-WR-TIMEZONE:America/Chicago
BEGIN:VTIMEZONE
TZID:America/Chicago
BEGIN:STANDARD
TZNAME:CST
DTSTART:20231105T020000
TZOFFSETFROM:-0500
TZOFFSETTO:-0600
RDATE:20241103T020000
RDATE:20251102T020000
END:STANDARD
BEGIN:DAYLIGHT
TZNAME:CDT
DTSTART:20240310T020000
TZOFFSETFROM:-0600
TZOFFSETTO:-0500
RDATE:20250309T020000
RDATE:20260308T020000
END:DAYLIGHT
END:VTIMEZONE
BEGIN:VEVENT
UID:39a6c931-f967-48d4-a59f-7a19b3d96a0f
DTSTAMP:20260420T071546Z
DESCRIPTION:Low impact exercise class
DTSTART;TZID=America/Chicago:20241014T103000
DTEND;TZID=America/Chicago:20241014T113000
LOCATION:Kindred City Hall
SUMMARY:Kindred Bone Builders
END:VEVENT
END:VCALENDAR
