BEGIN:VCALENDAR
VERSION:2.0
PRODID:-//communityofcarend.com//NONSGML kigkonsult.se iCalcreator 2.30.10/
 /
CALSCALE:GREGORIAN
METHOD:PUBLISH
UID:644d8e52-2bbc-48ee-80c9-03fd8195f639
X-WR-CALDESC:Bone Builder Exercise Class
X-WR-RELCALID:3b0fe4f19e3328aec474afe4a5bccc69
X-WR-TIMEZONE:America/Chicago
BEGIN:VTIMEZONE
TZID:America/Chicago
BEGIN:STANDARD
TZNAME:CST
DTSTART:20231105T020000
TZOFFSETFROM:-0500
TZOFFSETTO:-0600
RDATE:20241103T020000
RDATE:20251102T020000
END:STANDARD
BEGIN:DAYLIGHT
TZNAME:CDT
DTSTART:20240310T020000
TZOFFSETFROM:-0600
TZOFFSETTO:-0500
RDATE:20250309T020000
RDATE:20260308T020000
END:DAYLIGHT
END:VTIMEZONE
BEGIN:VEVENT
UID:c0316d38-509b-40a1-be06-e0c648013f57
DTSTAMP:20260420T071831Z
DESCRIPTION:Bone Builder Exercise Class
DTSTART;TZID=America/Chicago:20241014T100000
DTEND;TZID=America/Chicago:20241014T110000
LOCATION:Horace Senior Center
SUMMARY:Horace Bone Builders
END:VEVENT
END:VCALENDAR
