BEGIN:VCALENDAR
VERSION:2.0
PRODID:-//communityofcarend.com//NONSGML kigkonsult.se iCalcreator 2.30.10/
 /
CALSCALE:GREGORIAN
METHOD:PUBLISH
UID:8a77e3a1-ac65-41aa-a4ef-66f476ed15e2
X-WR-CALDESC:
X-WR-RELCALID:37ce40d6d0c57c462caa5233d8b3ab6a
X-WR-TIMEZONE:America/Chicago
BEGIN:VTIMEZONE
TZID:America/Chicago
BEGIN:STANDARD
TZNAME:CST
DTSTART:20231105T020000
TZOFFSETFROM:-0500
TZOFFSETTO:-0600
RDATE:20241103T020000
RDATE:20251102T020000
END:STANDARD
BEGIN:DAYLIGHT
TZNAME:CDT
DTSTART:20240310T020000
TZOFFSETFROM:-0600
TZOFFSETTO:-0500
RDATE:20250309T020000
RDATE:20260308T020000
END:DAYLIGHT
END:VTIMEZONE
BEGIN:VEVENT
UID:df4db651-dc23-4531-b730-bd1a52e9c0d0
DTSTAMP:20260420T072128Z
DESCRIPTION:
DTSTART;TZID=America/Chicago:20241008T130000
DTEND;TZID=America/Chicago:20241008T140000
LOCATION:
SUMMARY:Bone Builders - Harwood
END:VEVENT
END:VCALENDAR
