BEGIN:VCALENDAR
VERSION:2.0
PRODID:-//communityofcarend.com//NONSGML kigkonsult.se iCalcreator 2.30.10/
 /
CALSCALE:GREGORIAN
METHOD:PUBLISH
UID:7e1549cb-9c7a-4a43-9e13-63a64eeb3838
X-WR-CALDESC:Low-impact exercise classes.
X-WR-RELCALID:bed86bbf41a6c749ef90e574983d3d62
X-WR-TIMEZONE:America/Chicago
BEGIN:VTIMEZONE
TZID:America/Chicago
BEGIN:STANDARD
TZNAME:CST
DTSTART:20231105T020000
TZOFFSETFROM:-0500
TZOFFSETTO:-0600
RDATE:20241103T020000
RDATE:20251102T020000
END:STANDARD
BEGIN:DAYLIGHT
TZNAME:CDT
DTSTART:20240310T020000
TZOFFSETFROM:-0600
TZOFFSETTO:-0500
RDATE:20250309T020000
RDATE:20260308T020000
END:DAYLIGHT
END:VTIMEZONE
BEGIN:VEVENT
UID:a44ea943-ea44-423f-a03c-5d858e36322d
DTSTAMP:20260420T072123Z
DESCRIPTION:Low-impact exercise classes.
DTSTART;TZID=America/Chicago:20241004T103000
DTEND;TZID=America/Chicago:20241004T113000
LOCATION:Kindred City Hall
SUMMARY:Bone Builders - Kindred City Hall
END:VEVENT
END:VCALENDAR
