BEGIN:VCALENDAR
VERSION:2.0
PRODID:-//communityofcarend.com//NONSGML kigkonsult.se iCalcreator 2.30.10/
 /
CALSCALE:GREGORIAN
METHOD:PUBLISH
UID:d2b7fab2-9277-44f6-ae14-f8c4a8045dcc
X-WR-CALDESC:Bone Builder Exercise Class
X-WR-RELCALID:f4949f6d4f1ecf82094aa2a4ff2194d7
X-WR-TIMEZONE:America/Chicago
BEGIN:VTIMEZONE
TZID:America/Chicago
BEGIN:STANDARD
TZNAME:CST
DTSTART:20231105T020000
TZOFFSETFROM:-0500
TZOFFSETTO:-0600
RDATE:20241103T020000
RDATE:20251102T020000
END:STANDARD
BEGIN:DAYLIGHT
TZNAME:CDT
DTSTART:20240310T020000
TZOFFSETFROM:-0600
TZOFFSETTO:-0500
RDATE:20250309T020000
RDATE:20260308T020000
END:DAYLIGHT
END:VTIMEZONE
BEGIN:VEVENT
UID:bf8f214c-18e9-43b3-913c-d3aeaf791793
DTSTAMP:20260420T055803Z
DESCRIPTION:Bone Builder Exercise Class
DTSTART;TZID=America/Chicago:20240930T100000
DTEND;TZID=America/Chicago:20240930T110000
LOCATION:Horace Senior Center
SUMMARY:Horace Bone Builders
END:VEVENT
END:VCALENDAR
