BEGIN:VCALENDAR
VERSION:2.0
PRODID:-//communityofcarend.com//NONSGML kigkonsult.se iCalcreator 2.30.10/
 /
CALSCALE:GREGORIAN
METHOD:PUBLISH
UID:4105780c-a4dc-4a63-bfaa-ebdaa39172b5
X-WR-CALDESC:Low-impact exercise classes.
X-WR-RELCALID:536d8bf3fa0b550b59a65edf35c612c8
X-WR-TIMEZONE:America/Chicago
BEGIN:VTIMEZONE
TZID:America/Chicago
BEGIN:STANDARD
TZNAME:CST
DTSTART:20231105T020000
TZOFFSETFROM:-0500
TZOFFSETTO:-0600
RDATE:20241103T020000
RDATE:20251102T020000
END:STANDARD
BEGIN:DAYLIGHT
TZNAME:CDT
DTSTART:20240310T020000
TZOFFSETFROM:-0600
TZOFFSETTO:-0500
RDATE:20250309T020000
RDATE:20260308T020000
END:DAYLIGHT
END:VTIMEZONE
BEGIN:VEVENT
UID:e0998a0a-dd24-4830-8b45-28dc023c05a8
DTSTAMP:20260420T060431Z
DESCRIPTION:Low-impact exercise classes.
DTSTART;TZID=America/Chicago:20240927T103000
DTEND;TZID=America/Chicago:20240927T113000
LOCATION:Kindred City Hall
SUMMARY:Bone Builders - Kindred City Hall
END:VEVENT
END:VCALENDAR
