BEGIN:VCALENDAR
VERSION:2.0
PRODID:-//communityofcarend.com//NONSGML kigkonsult.se iCalcreator 2.30.10/
 /
CALSCALE:GREGORIAN
METHOD:PUBLISH
UID:55c4bc4d-6441-4a1a-bf18-c2afa83ebe71
X-WR-CALDESC:Low-impact exercise classes.
X-WR-RELCALID:544c5dbbb998e5d0e9479c14a103bf74
X-WR-TIMEZONE:America/Chicago
BEGIN:VTIMEZONE
TZID:America/Chicago
BEGIN:STANDARD
TZNAME:CST
DTSTART:20231105T020000
TZOFFSETFROM:-0500
TZOFFSETTO:-0600
RDATE:20241103T020000
RDATE:20251102T020000
END:STANDARD
BEGIN:DAYLIGHT
TZNAME:CDT
DTSTART:20240310T020000
TZOFFSETFROM:-0600
TZOFFSETTO:-0500
RDATE:20250309T020000
RDATE:20260308T020000
END:DAYLIGHT
END:VTIMEZONE
BEGIN:VEVENT
UID:b1bede8b-5d09-416c-af58-b00a491d5053
DTSTAMP:20260420T060503Z
DESCRIPTION:Low-impact exercise classes.
DTSTART;TZID=America/Chicago:20240920T103000
DTEND;TZID=America/Chicago:20240920T113000
LOCATION:Kindred City Hall
SUMMARY:Bone Builders - Kindred City Hall
END:VEVENT
END:VCALENDAR
